BEGIN:VCALENDAR
VERSION:2.0
PRODID:-//Braun &amp; Gresham, PLLC. - ECPv6.15.20//NONSGML v1.0//EN
CALSCALE:GREGORIAN
METHOD:PUBLISH
X-ORIGINAL-URL:https://braungresham.com
X-WR-CALDESC:Events for Braun &amp; Gresham, PLLC.
REFRESH-INTERVAL;VALUE=DURATION:PT1H
X-Robots-Tag:noindex
X-PUBLISHED-TTL:PT1H
BEGIN:VTIMEZONE
TZID:America/Chicago
BEGIN:DAYLIGHT
TZOFFSETFROM:-0600
TZOFFSETTO:-0500
TZNAME:CDT
DTSTART:20250309T080000
END:DAYLIGHT
BEGIN:STANDARD
TZOFFSETFROM:-0500
TZOFFSETTO:-0600
TZNAME:CST
DTSTART:20251102T070000
END:STANDARD
BEGIN:DAYLIGHT
TZOFFSETFROM:-0600
TZOFFSETTO:-0500
TZNAME:CDT
DTSTART:20260308T080000
END:DAYLIGHT
BEGIN:STANDARD
TZOFFSETFROM:-0500
TZOFFSETTO:-0600
TZNAME:CST
DTSTART:20261101T070000
END:STANDARD
BEGIN:DAYLIGHT
TZOFFSETFROM:-0600
TZOFFSETTO:-0500
TZNAME:CDT
DTSTART:20270314T080000
END:DAYLIGHT
BEGIN:STANDARD
TZOFFSETFROM:-0500
TZOFFSETTO:-0600
TZNAME:CST
DTSTART:20271107T070000
END:STANDARD
END:VTIMEZONE
BEGIN:VEVENT
DTSTART;TZID=America/Chicago:20260527T110000
DTEND;TZID=America/Chicago:20260527T130000
DTSTAMP:20260421T035730
CREATED:20260326T212015Z
LAST-MODIFIED:20260326T213421Z
UID:202688-1779879600-1779886800@braungresham.com
SUMMARY:May Texas Alliance of Land Brokers (TALB) Central Luncheon
DESCRIPTION:Braun & Gresham is pleased to sponsor the May Texas Alliance of Land Brokers (TALB) Central Luncheon at Dripping Springs Distilling on May 27th.  \nThe Texas Alliance of Land Brokers is comprised of real estate professionals with specialized expertise in farm and ranch properties\, including licensed brokers and agents\, appraisers\, and accredited land consultants\, many of whom play an important role in supporting Texas landowners.  \nThe luncheon will include networking\, a catered lunch\, and the opportunity to hear from Texas Agriculture Commissioner Sid Miller. Attorney and Counselor Nathan Yates and our team look forward to connecting with TALB members and engaging with clients who share a passion for Texas land.  \nLearn more about TALB and register to attend the May Central Luncheon   \nEstablished in 1994\, TALB represents buyers and sellers of rural Texas real estate and is nearing 500 active members. The organization promotes high standards of professional conduct and supports efforts related to outdoor recreation\, wildlife conservation\, and private property ownership. 
URL:https://braungresham.com/event/texas-alliance-of-land-brokers-luncheon/
LOCATION:Dripping Springs Distilling\, 5330 Bell Springs Rd\, Dripping Springs\, Texas\, 78620
ATTACH;FMTTYPE=image/png:https://braungresham.com/wp-content/uploads/2026/03/BG_Texas-Alliance-of-Land-Brokers.png
END:VEVENT
END:VCALENDAR